Package: tracktables Version: 1.40.0 Command: chmod a+r tracktables -R && F:\biocbuild\bbs-3.20-bioc\R\bin\R.exe CMD build --keep-empty-dirs --no-resave-data tracktables StartedAt: 2025-02-13 22:16:06 -0500 (Thu, 13 Feb 2025) EndedAt: 2025-02-13 22:16:41 -0500 (Thu, 13 Feb 2025) EllapsedTime: 34.5 seconds RetCode: 0 Status: OK PackageFile: tracktables_1.40.0.tar.gz PackageFileSize: 357.3 KiB