Package: tracktables Version: 1.40.0 Command: /Library/Frameworks/R.framework/Resources/bin/R CMD INSTALL tracktables StartedAt: 2025-02-13 15:41:08 -0500 (Thu, 13 Feb 2025) EndedAt: 2025-02-13 15:41:38 -0500 (Thu, 13 Feb 2025) EllapsedTime: 30.6 seconds RetCode: 0 Status: OK