Package: tracktables Version: 1.40.0 Command: /Library/Frameworks/R.framework/Resources/bin/R CMD check --install=check:tracktables.install-out.txt --library=/Library/Frameworks/R.framework/Resources/library --no-vignettes --timings tracktables_1.40.0.tar.gz StartedAt: 2025-02-14 12:30:38 -0500 (Fri, 14 Feb 2025) EndedAt: 2025-02-14 12:33:59 -0500 (Fri, 14 Feb 2025) EllapsedTime: 200.7 seconds RetCode: 0 Status: WARNINGS CheckDir: tracktables.Rcheck Warnings: 1