Package: tracktables Version: 1.40.0 Command: rm -rf tracktables.buildbin-libdir && mkdir tracktables.buildbin-libdir && /Users/biocbuild/BBS/utils/build-universal.sh tracktables_1.40.0.tar.gz /Library/Frameworks/R.framework/Resources/bin/R tracktables.buildbin-libdir StartedAt: 2025-02-14 15:56:57 -0500 (Fri, 14 Feb 2025) EndedAt: 2025-02-14 15:57:29 -0500 (Fri, 14 Feb 2025) EllapsedTime: 31.6 seconds RetCode: 0 Status: OK PackageFile: tracktables_1.40.0.tgz PackageFileSize: 403.5 KiB