Package: tracktables Version: 1.40.0 Command: /Library/Frameworks/R.framework/Resources/bin/R CMD build --keep-empty-dirs --no-resave-data tracktables StartedAt: 2025-02-14 09:43:27 -0500 (Fri, 14 Feb 2025) EndedAt: 2025-02-14 09:43:59 -0500 (Fri, 14 Feb 2025) EllapsedTime: 32.1 seconds RetCode: 0 Status: OK PackageFile: tracktables_1.40.0.tar.gz PackageFileSize: 356.1 KiB