Package: tracktables Version: 1.40.0 Command: rm -rf tracktables.buildbin-libdir && mkdir tracktables.buildbin-libdir && /Users/biocbuild/BBS/utils/build-universal.sh tracktables_1.40.0.tar.gz /Library/Frameworks/R.framework/Resources/bin/R tracktables.buildbin-libdir StartedAt: 2025-02-15 17:36:33 -0500 (Sat, 15 Feb 2025) EndedAt: 2025-02-15 17:36:51 -0500 (Sat, 15 Feb 2025) EllapsedTime: 18.2 seconds RetCode: 0 Status: OK PackageFile: tracktables_1.40.0.tgz PackageFileSize: 403.4 KiB