Package: trackViewer Version: 1.42.0 Command: /home/biocbuild/R/R/bin/R CMD build --keep-empty-dirs --no-resave-data trackViewer StartedAt: 2025-01-31 03:15:25 -0000 (Fri, 31 Jan 2025) EndedAt: 2025-01-31 03:31:28 -0000 (Fri, 31 Jan 2025) EllapsedTime: 963.9 seconds RetCode: 0 Status: OK PackageFile: trackViewer_1.42.0.tar.gz PackageFileSize: 6.486 MiB