Package: trackViewer Version: 1.42.0 Command: F:\biocbuild\bbs-3.20-bioc\R\bin\R.exe CMD INSTALL trackViewer StartedAt: 2025-02-03 17:00:31 -0500 (Mon, 03 Feb 2025) EndedAt: 2025-02-03 17:02:00 -0500 (Mon, 03 Feb 2025) EllapsedTime: 89.8 seconds RetCode: 0 Status: OK