Package: trackViewer Version: 1.42.0 Command: rm -rf trackViewer.buildbin-libdir && mkdir trackViewer.buildbin-libdir && F:\biocbuild\bbs-3.20-bioc\R\bin\R.exe CMD INSTALL --build --library=trackViewer.buildbin-libdir trackViewer_1.42.0.tar.gz StartedAt: 2025-01-31 09:48:24 -0500 (Fri, 31 Jan 2025) EndedAt: 2025-01-31 09:50:04 -0500 (Fri, 31 Jan 2025) EllapsedTime: 99.9 seconds RetCode: 0 Status: OK PackageFile: trackViewer_1.42.0.zip PackageFileSize: 6.248 MiB