Package: trackViewer Version: 1.42.0 Command: /Library/Frameworks/R.framework/Resources/bin/R CMD build --keep-empty-dirs --no-resave-data trackViewer StartedAt: 2025-02-03 22:58:22 -0500 (Mon, 03 Feb 2025) EndedAt: 2025-02-03 23:22:05 -0500 (Mon, 03 Feb 2025) EllapsedTime: 1423.2 seconds RetCode: 0 Status: OK PackageFile: trackViewer_1.42.0.tar.gz PackageFileSize: 12.1 MiB