Package: trackViewer Version: 1.42.0 Command: rm -rf trackViewer.buildbin-libdir && mkdir trackViewer.buildbin-libdir && /Users/biocbuild/BBS/utils/build-universal.sh trackViewer_1.42.0.tar.gz /Library/Frameworks/R.framework/Resources/bin/R trackViewer.buildbin-libdir StartedAt: 2025-02-01 17:13:41 -0500 (Sat, 01 Feb 2025) EndedAt: 2025-02-01 17:14:59 -0500 (Sat, 01 Feb 2025) EllapsedTime: 77.9 seconds RetCode: 0 Status: OK PackageFile: trackViewer_1.42.0.tgz PackageFileSize: 12.84 MiB