Package: tpSVG Version: 1.2.0 Command: rm -rf tpSVG.buildbin-libdir && mkdir tpSVG.buildbin-libdir && /Users/biocbuild/BBS/utils/build-universal.sh tpSVG_1.2.0.tar.gz /Library/Frameworks/R.framework/Resources/bin/R tpSVG.buildbin-libdir StartedAt: 2025-01-31 13:52:13 -0500 (Fri, 31 Jan 2025) EndedAt: 2025-01-31 13:53:05 -0500 (Fri, 31 Jan 2025) EllapsedTime: 51.8 seconds RetCode: 0 Status: OK PackageFile: tpSVG_1.2.0.tgz PackageFileSize: 1.24 MiB