Package: topdownr Version: 1.28.0 Command: /home/biocbuild/R/R/bin/R CMD build --keep-empty-dirs --no-resave-data topdownr StartedAt: 2025-01-28 03:52:19 -0000 (Tue, 28 Jan 2025) EndedAt: 2025-01-28 03:54:03 -0000 (Tue, 28 Jan 2025) EllapsedTime: 104.1 seconds RetCode: 0 Status: OK PackageFile: topdownr_1.28.0.tar.gz PackageFileSize: 1.413 MiB