Package: topconfects Version: 1.22.0 Command: /home/biocbuild/bbs-3.20-bioc/R/bin/R CMD INSTALL topconfects StartedAt: 2025-03-31 15:14:00 -0400 (Mon, 31 Mar 2025) EndedAt: 2025-03-31 15:14:04 -0400 (Mon, 31 Mar 2025) EllapsedTime: 4.6 seconds RetCode: 0 Status: OK