Package: topconfects Version: 1.22.0 Command: /Library/Frameworks/R.framework/Resources/bin/R CMD INSTALL topconfects StartedAt: 2025-03-31 15:11:51 -0400 (Mon, 31 Mar 2025) EndedAt: 2025-03-31 15:12:03 -0400 (Mon, 31 Mar 2025) EllapsedTime: 11.9 seconds RetCode: 0 Status: OK