Package: topconfects Version: 1.22.0 Command: /Library/Frameworks/R.framework/Resources/bin/R CMD check --install=check:topconfects.install-out.txt --library=/Library/Frameworks/R.framework/Resources/library --no-vignettes --timings topconfects_1.22.0.tar.gz StartedAt: 2025-04-01 10:23:25 -0400 (Tue, 01 Apr 2025) EndedAt: 2025-04-01 10:26:11 -0400 (Tue, 01 Apr 2025) EllapsedTime: 166.2 seconds RetCode: 0 Status: OK CheckDir: topconfects.Rcheck Warnings: 0