Package: topGO Version: 2.58.0 Command: /home/biocbuild/bbs-3.20-bioc/R/bin/R CMD INSTALL topGO StartedAt: 2025-03-31 15:25:03 -0400 (Mon, 31 Mar 2025) EndedAt: 2025-03-31 15:25:21 -0400 (Mon, 31 Mar 2025) EllapsedTime: 18.1 seconds RetCode: 0 Status: OK