Package: topGO Version: 2.58.0 Command: /Library/Frameworks/R.framework/Resources/bin/R CMD INSTALL topGO StartedAt: 2025-01-27 15:38:36 -0500 (Mon, 27 Jan 2025) EndedAt: 2025-01-27 15:39:22 -0500 (Mon, 27 Jan 2025) EllapsedTime: 46.0 seconds RetCode: 0 Status: OK