Package: topGO Version: 2.58.0 Command: rm -rf topGO.buildbin-libdir && mkdir topGO.buildbin-libdir && /Users/biocbuild/BBS/utils/build-universal.sh topGO_2.58.0.tar.gz /Library/Frameworks/R.framework/Resources/bin/R topGO.buildbin-libdir StartedAt: 2025-01-28 14:47:42 -0500 (Tue, 28 Jan 2025) EndedAt: 2025-01-28 14:48:44 -0500 (Tue, 28 Jan 2025) EllapsedTime: 61.6 seconds RetCode: 0 Status: OK PackageFile: topGO_2.58.0.tgz PackageFileSize: 2.148 MiB