Package: tomoseqr Version: 1.10.0 Command: F:\biocbuild\bbs-3.20-bioc\R\bin\R.exe CMD INSTALL tomoseqr StartedAt: 2025-01-27 16:12:07 -0500 (Mon, 27 Jan 2025) EndedAt: 2025-01-27 16:12:23 -0500 (Mon, 27 Jan 2025) EllapsedTime: 16.0 seconds RetCode: 0 Status: OK