Package: tomoseqr Version: 1.10.0 Command: /Library/Frameworks/R.framework/Resources/bin/R CMD check --install=check:tomoseqr.install-out.txt --library=/Library/Frameworks/R.framework/Resources/library --no-vignettes --timings tomoseqr_1.10.0.tar.gz StartedAt: 2025-01-29 11:54:19 -0500 (Wed, 29 Jan 2025) EndedAt: 2025-01-29 11:55:39 -0500 (Wed, 29 Jan 2025) EllapsedTime: 79.5 seconds RetCode: 0 Status: OK CheckDir: tomoseqr.Rcheck Warnings: 0