Package: tomoda Version: 1.16.0 Command: /Library/Frameworks/R.framework/Resources/bin/R CMD check --install=check:tomoda.install-out.txt --library=/Library/Frameworks/R.framework/Resources/library --no-vignettes --timings tomoda_1.16.0.tar.gz StartedAt: 2025-04-01 10:22:53 -0400 (Tue, 01 Apr 2025) EndedAt: 2025-04-01 10:37:03 -0400 (Tue, 01 Apr 2025) EllapsedTime: 849.9 seconds RetCode: 0 Status: OK CheckDir: tomoda.Rcheck Warnings: 0