Package: tkWidgets Version: 1.84.0 Command: /home/biocbuild/R/R/bin/R CMD build --keep-empty-dirs --no-resave-data tkWidgets StartedAt: 2025-02-11 03:08:08 -0000 (Tue, 11 Feb 2025) EndedAt: 2025-02-11 03:08:20 -0000 (Tue, 11 Feb 2025) EllapsedTime: 12.0 seconds RetCode: 0 Status: OK PackageFile: tkWidgets_1.84.0.tar.gz PackageFileSize: 467.9 KiB