Package: tkWidgets Version: 1.84.0 Command: /Library/Frameworks/R.framework/Resources/bin/R CMD INSTALL tkWidgets StartedAt: 2025-03-31 15:09:52 -0400 (Mon, 31 Mar 2025) EndedAt: 2025-03-31 15:10:20 -0400 (Mon, 31 Mar 2025) EllapsedTime: 28.0 seconds RetCode: 0 Status: OK