Package: tkWidgets Version: 1.84.0 Command: /Library/Frameworks/R.framework/Resources/bin/R CMD build --keep-empty-dirs --no-resave-data tkWidgets StartedAt: 2025-04-01 09:16:53 -0400 (Tue, 01 Apr 2025) EndedAt: 2025-04-01 09:17:13 -0400 (Tue, 01 Apr 2025) EllapsedTime: 20.5 seconds RetCode: 0 Status: OK PackageFile: tkWidgets_1.84.0.tar.gz PackageFileSize: 474.9 KiB