Package: timecourse Version: 1.78.0 Command: chmod a+r timecourse -R && F:\biocbuild\bbs-3.20-bioc\R\bin\R.exe CMD build --keep-empty-dirs --no-resave-data timecourse StartedAt: 2025-01-27 22:24:35 -0500 (Mon, 27 Jan 2025) EndedAt: 2025-01-27 22:25:09 -0500 (Mon, 27 Jan 2025) EllapsedTime: 34.3 seconds RetCode: 0 Status: OK PackageFile: timecourse_1.78.0.tar.gz PackageFileSize: 712.4 KiB