Package: timecourse Version: 1.78.0 Command: /home/biocbuild/bbs-3.20-bioc/R/bin/R CMD check --install=check:timecourse.install-out.txt --library=/home/biocbuild/bbs-3.20-bioc/R/site-library --timings timecourse_1.78.0.tar.gz StartedAt: 2025-04-01 02:57:33 -0400 (Tue, 01 Apr 2025) EndedAt: 2025-04-01 02:58:17 -0400 (Tue, 01 Apr 2025) EllapsedTime: 44.0 seconds RetCode: 0 Status: OK CheckDir: timecourse.Rcheck Warnings: 0