Package: timecourse Version: 1.78.0 Command: /Library/Frameworks/R.framework/Resources/bin/R CMD check --install=check:timecourse.install-out.txt --library=/Library/Frameworks/R.framework/Resources/library --no-vignettes --timings timecourse_1.78.0.tar.gz StartedAt: 2025-01-29 11:47:58 -0500 (Wed, 29 Jan 2025) EndedAt: 2025-01-29 11:48:46 -0500 (Wed, 29 Jan 2025) EllapsedTime: 48.7 seconds RetCode: 0 Status: OK CheckDir: timecourse.Rcheck Warnings: 0