Package: timeOmics Version: 1.18.0 Command: F:\biocbuild\bbs-3.20-bioc\R\bin\R.exe CMD INSTALL timeOmics StartedAt: 2025-03-31 15:41:39 -0400 (Mon, 31 Mar 2025) EndedAt: 2025-03-31 15:42:10 -0400 (Mon, 31 Mar 2025) EllapsedTime: 31.1 seconds RetCode: 0 Status: OK