Package: tilingArray Version: 1.84.0 Command: /home/biocbuild/R/R/bin/R CMD check --install=check:tilingArray.install-out.txt --library=/home/biocbuild/R/R/site-library --no-vignettes --timings tilingArray_1.84.0.tar.gz StartedAt: 2025-02-04 11:43:36 -0000 (Tue, 04 Feb 2025) EndedAt: 2025-02-04 11:46:27 -0000 (Tue, 04 Feb 2025) EllapsedTime: 171.2 seconds RetCode: 0 Status: OK CheckDir: tilingArray.Rcheck Warnings: 0