Package: tilingArray Version: 1.84.0 Command: /home/biocbuild/R/R/bin/R CMD build --keep-empty-dirs --no-resave-data tilingArray StartedAt: 2025-01-28 03:50:08 -0000 (Tue, 28 Jan 2025) EndedAt: 2025-01-28 03:50:50 -0000 (Tue, 28 Jan 2025) EllapsedTime: 42.0 seconds RetCode: 0 Status: OK PackageFile: tilingArray_1.84.0.tar.gz PackageFileSize: 3.46 MiB