Package: tilingArray Version: 1.84.0 Command: /home/biocbuild/bbs-3.20-bioc/R/bin/R CMD INSTALL tilingArray StartedAt: 2025-03-31 15:44:04 -0400 (Mon, 31 Mar 2025) EndedAt: 2025-03-31 15:44:26 -0400 (Mon, 31 Mar 2025) EllapsedTime: 22.0 seconds RetCode: 0 Status: OK