Package: tilingArray Version: 1.84.0 Command: /Library/Frameworks/R.framework/Resources/bin/R CMD build --keep-empty-dirs --no-resave-data tilingArray StartedAt: 2025-03-31 22:36:25 -0400 (Mon, 31 Mar 2025) EndedAt: 2025-03-31 22:37:46 -0400 (Mon, 31 Mar 2025) EllapsedTime: 81.5 seconds RetCode: 0 Status: OK PackageFile: tilingArray_1.84.0.tar.gz PackageFileSize: 3.487 MiB