Package: tigre Version: 1.60.0 Command: /home/biocbuild/R/R/bin/R CMD INSTALL tigre StartedAt: 2025-02-03 20:38:49 -0000 (Mon, 03 Feb 2025) EndedAt: 2025-02-03 20:39:16 -0000 (Mon, 03 Feb 2025) EllapsedTime: 26.8 seconds RetCode: 0 Status: OK