Package: tigre Version: 1.60.0 Command: /home/biocbuild/R/R/bin/R CMD check --install=check:tigre.install-out.txt --library=/home/biocbuild/R/R/site-library --no-vignettes --timings tigre_1.60.0.tar.gz StartedAt: 2025-02-04 11:43:14 -0000 (Tue, 04 Feb 2025) EndedAt: 2025-02-04 11:45:55 -0000 (Tue, 04 Feb 2025) EllapsedTime: 161.1 seconds RetCode: 0 Status: OK CheckDir: tigre.Rcheck Warnings: 0