Package: tigre Version: 1.60.0 Command: /home/biocbuild/R/R/bin/R CMD build --keep-empty-dirs --no-resave-data tigre StartedAt: 2025-01-31 03:11:41 -0000 (Fri, 31 Jan 2025) EndedAt: 2025-01-31 03:15:18 -0000 (Fri, 31 Jan 2025) EllapsedTime: 216.1 seconds RetCode: 0 Status: OK PackageFile: tigre_1.60.0.tar.gz PackageFileSize: 308.4 KiB