Package: tigre Version: 1.60.0 Command: /home/biocbuild/bbs-3.20-bioc/R/bin/R CMD build --keep-empty-dirs --no-resave-data --md5 tigre StartedAt: 2025-03-31 19:26:42 -0400 (Mon, 31 Mar 2025) EndedAt: 2025-03-31 19:29:43 -0400 (Mon, 31 Mar 2025) EllapsedTime: 181.2 seconds RetCode: 0 Status: OK PackageFile: tigre_1.60.0.tar.gz PackageFileSize: 318.8 KiB