Package: tidysbml Version: 1.0.0 Command: /Library/Frameworks/R.framework/Resources/bin/R CMD check --install=check:tidysbml.install-out.txt --library=/Library/Frameworks/R.framework/Resources/library --no-vignettes --timings tidysbml_1.0.0.tar.gz StartedAt: 2025-04-01 10:15:33 -0400 (Tue, 01 Apr 2025) EndedAt: 2025-04-01 10:16:26 -0400 (Tue, 01 Apr 2025) EllapsedTime: 53.1 seconds RetCode: 0 Status: OK CheckDir: tidysbml.Rcheck Warnings: 0