Package: tidyomics Version: 1.2.0 Command: rm -rf tidyomics.buildbin-libdir && mkdir tidyomics.buildbin-libdir && F:\biocbuild\bbs-3.20-bioc\R\bin\R.exe CMD INSTALL --build --library=tidyomics.buildbin-libdir tidyomics_1.2.0.tar.gz StartedAt: 2025-04-01 09:23:26 -0400 (Tue, 01 Apr 2025) EndedAt: 2025-04-01 09:24:10 -0400 (Tue, 01 Apr 2025) EllapsedTime: 44.0 seconds RetCode: 0 Status: OK PackageFile: tidyomics_1.2.0.zip PackageFileSize: 76.87 KiB