Package: tidyomics Version: 1.2.0 Command: /Library/Frameworks/R.framework/Resources/bin/R CMD build --keep-empty-dirs --no-resave-data tidyomics StartedAt: 2025-03-31 22:34:46 -0400 (Mon, 31 Mar 2025) EndedAt: 2025-03-31 22:35:59 -0400 (Mon, 31 Mar 2025) EllapsedTime: 73.6 seconds RetCode: 0 Status: OK PackageFile: tidyomics_1.2.0.tar.gz PackageFileSize: 55.87 KiB