Package: tidyomics Version: 1.2.0 Command: /Library/Frameworks/R.framework/Resources/bin/R CMD INSTALL tidyomics StartedAt: 2025-03-31 17:27:42 -0400 (Mon, 31 Mar 2025) EndedAt: 2025-03-31 17:28:23 -0400 (Mon, 31 Mar 2025) EllapsedTime: 41.5 seconds RetCode: 0 Status: OK