Package: tidybulk Version: 1.18.0 Command: /home/biocbuild/bbs-3.20-bioc/R/bin/R CMD build --keep-empty-dirs --no-resave-data --md5 tidybulk StartedAt: 2025-03-31 19:25:36 -0400 (Mon, 31 Mar 2025) EndedAt: 2025-03-31 19:26:50 -0400 (Mon, 31 Mar 2025) EllapsedTime: 74.1 seconds RetCode: 0 Status: OK PackageFile: tidybulk_1.18.0.tar.gz PackageFileSize: 2.84 MiB