Package: tidybulk Version: 1.18.0 Command: /Library/Frameworks/R.framework/Resources/bin/R CMD INSTALL tidybulk StartedAt: 2025-01-27 16:03:03 -0500 (Mon, 27 Jan 2025) EndedAt: 2025-01-27 16:04:53 -0500 (Mon, 27 Jan 2025) EllapsedTime: 110.6 seconds RetCode: 0 Status: OK