Package: tidybulk Version: 1.18.0 Command: /Library/Frameworks/R.framework/Resources/bin/R CMD check --install=check:tidybulk.install-out.txt --library=/Library/Frameworks/R.framework/Resources/library --no-vignettes --timings tidybulk_1.18.0.tar.gz StartedAt: 2025-04-01 10:14:13 -0400 (Tue, 01 Apr 2025) EndedAt: 2025-04-01 10:29:05 -0400 (Tue, 01 Apr 2025) EllapsedTime: 892.0 seconds RetCode: 1 Status: ERROR CheckDir: tidybulk.Rcheck Warnings: NA