Package: tidybulk Version: 1.18.0 Command: /Library/Frameworks/R.framework/Resources/bin/R CMD INSTALL tidybulk StartedAt: 2024-11-19 15:27:12 -0500 (Tue, 19 Nov 2024) EndedAt: 2024-11-19 15:28:20 -0500 (Tue, 19 Nov 2024) EllapsedTime: 68.3 seconds RetCode: 0 Status: OK