Package: tidybulk Version: 1.18.0 Command: /Library/Frameworks/R.framework/Resources/bin/R CMD check --install=check:tidybulk.install-out.txt --library=/Library/Frameworks/R.framework/Resources/library --no-vignettes --timings tidybulk_1.18.0.tar.gz StartedAt: 2025-04-02 11:16:03 -0400 (Wed, 02 Apr 2025) EndedAt: 2025-04-02 11:25:16 -0400 (Wed, 02 Apr 2025) EllapsedTime: 552.6 seconds RetCode: 1 Status: ERROR CheckDir: tidybulk.Rcheck Warnings: NA