Package: tidySummarizedExperiment Version: 1.16.0 Command: /home/biocbuild/R/R/bin/R CMD build --keep-empty-dirs --no-resave-data tidySummarizedExperiment StartedAt: 2025-01-28 03:49:58 -0000 (Tue, 28 Jan 2025) EndedAt: 2025-01-28 03:50:48 -0000 (Tue, 28 Jan 2025) EllapsedTime: 50.0 seconds RetCode: 0 Status: OK PackageFile: tidySummarizedExperiment_1.16.0.tar.gz PackageFileSize: 338.6 KiB