Package: tidySingleCellExperiment Version: 1.16.0 Command: /home/biocbuild/bbs-3.20-bioc/R/bin/R CMD build --keep-empty-dirs --no-resave-data --md5 tidySingleCellExperiment StartedAt: 2025-01-27 20:23:47 -0500 (Mon, 27 Jan 2025) EndedAt: 2025-01-27 20:24:59 -0500 (Mon, 27 Jan 2025) EllapsedTime: 72.1 seconds RetCode: 0 Status: OK PackageFile: tidySingleCellExperiment_1.16.0.tar.gz PackageFileSize: 1.788 MiB