Package: tidyFlowCore Version: 1.0.0 Command: /home/biocbuild/bbs-3.20-bioc/R/bin/R CMD check --install=check:tidyFlowCore.install-out.txt --library=/home/biocbuild/bbs-3.20-bioc/R/site-library --timings tidyFlowCore_1.0.0.tar.gz StartedAt: 2025-04-01 02:55:17 -0400 (Tue, 01 Apr 2025) EndedAt: 2025-04-01 02:57:20 -0400 (Tue, 01 Apr 2025) EllapsedTime: 123.1 seconds RetCode: 0 Status: OK CheckDir: tidyFlowCore.Rcheck Warnings: 0