Package: tidyCoverage Version: 1.2.0 Command: chmod a+r tidyCoverage -R && F:\biocbuild\bbs-3.20-bioc\R\bin\R.exe CMD build --keep-empty-dirs --no-resave-data tidyCoverage StartedAt: 2025-01-27 22:23:06 -0500 (Mon, 27 Jan 2025) EndedAt: 2025-01-27 22:30:34 -0500 (Mon, 27 Jan 2025) EllapsedTime: 448.2 seconds RetCode: 0 Status: OK PackageFile: tidyCoverage_1.2.0.tar.gz PackageFileSize: 3.758 MiB